BEGIN:VCALENDAR
VERSION:2.0
PRODID:-//Lanier Corvettes Unlimited - ECPv6.2.3.2//NONSGML v1.0//EN
CALSCALE:GREGORIAN
METHOD:PUBLISH
X-WR-CALNAME:Lanier Corvettes Unlimited
X-ORIGINAL-URL:https://laniercorvettesunlimited.com
X-WR-CALDESC:Events for Lanier Corvettes Unlimited
REFRESH-INTERVAL;VALUE=DURATION:PT1H
X-Robots-Tag:noindex
X-PUBLISHED-TTL:PT1H
BEGIN:VTIMEZONE
TZID:America/New_York
BEGIN:DAYLIGHT
TZOFFSETFROM:-0500
TZOFFSETTO:-0400
TZNAME:EDT
DTSTART:20260308T070000
END:DAYLIGHT
BEGIN:STANDARD
TZOFFSETFROM:-0400
TZOFFSETTO:-0500
TZNAME:EST
DTSTART:20261101T060000
END:STANDARD
END:VTIMEZONE
BEGIN:VEVENT
DTSTART;TZID=America/New_York:20261128T160000
DTEND;TZID=America/New_York:20261128T210000
DTSTAMP:20260419T122425
CREATED:20251023T184129Z
LAST-MODIFIED:20251024T125701Z
UID:4172-1795881600-1795899600@laniercorvettesunlimited.com
SUMMARY:Diner & Christmas Lights - Dahlonega GA
DESCRIPTION:Dahlonega – Dinner and then Christmas Lights walk tour around a few downtown streets. Dinner is at the Smith House at 4:30 PM. Probably seated by 4:45PM. 84 South Chestatee Street Dahlonega\, GA 30533 … see below for optional caravan info from Gainesville – Lead Harry & Vicky Taylor \n\n\n\n\n\n\n\n\nDahlonega \nThe North Georgia town made \nSouthern Living’s list of best destinations  \nfor a “classic Southern Christmas.”  \nMovie-makers have keyed in on the charm of the town with Dahlonega \nbeing the backdrop for Hallmark movies such as “Christmas in the Smokies\,” \n“Christmas in Homestead” (2022) and “A Taste of Christmas.” 🎄  \nMore than holiday cheer. \nNorth Georgia gem just named \n ‘best small wine\, beer and spirits town’ in GA \nDahlonega Christmas photos \nDinner is at the Smith House at 4:30 PM.We will have a table together. \n84 South Chestatee Street Dahlonega\, GA 30533 \nhttps://smithhouse.com/dining/ \n \nMany of us are going to drive our ‘other’ vehicle. \nAnyone wanting to caravan from Gainesville to Dahlonega meet us on Hwy 60 at the Publix center on the right side of the road.Meet up in front of the UPS store at the far right of the Publix shop center.\n \nMeet at 3:30 PM and wheels up at 3:45 to arrive at 4:30 at Smith House.
URL:https://laniercorvettesunlimited.com/event/dahlonega-ga-diner-christmas-lights/
END:VEVENT
END:VCALENDAR