BEGIN:VCALENDAR
VERSION:2.0
PRODID:-//Lanier Corvettes Unlimited - ECPv6.2.3.2//NONSGML v1.0//EN
CALSCALE:GREGORIAN
METHOD:PUBLISH
X-WR-CALNAME:Lanier Corvettes Unlimited
X-ORIGINAL-URL:https://laniercorvettesunlimited.com
X-WR-CALDESC:Events for Lanier Corvettes Unlimited
REFRESH-INTERVAL;VALUE=DURATION:PT1H
X-Robots-Tag:noindex
X-PUBLISHED-TTL:PT1H
BEGIN:VTIMEZONE
TZID:America/New_York
BEGIN:DAYLIGHT
TZOFFSETFROM:-0500
TZOFFSETTO:-0400
TZNAME:EDT
DTSTART:20260308T070000
END:DAYLIGHT
BEGIN:STANDARD
TZOFFSETFROM:-0400
TZOFFSETTO:-0500
TZNAME:EST
DTSTART:20261101T060000
END:STANDARD
END:VTIMEZONE
BEGIN:VEVENT
DTSTART;TZID=America/New_York:20261010T090000
DTEND;TZID=America/New_York:20261010T143000
DTSTAMP:20260419T091123
CREATED:20260401T175252Z
LAST-MODIFIED:20260401T182142Z
UID:4870-1791622800-1791642600@laniercorvettesunlimited.com
SUMMARY:Secret Santa Car Show - Oakwood GA
DESCRIPTION:Secret Santa Car Show in Oakwood\, GA\nOctober 10\, 2026 from 9am until 2:30 pm\nRain Date: 10-17-2026. In case of rain\, decision to postpone will be posted by 2pm on this website\, www.secretsantacarshow.com\, on October 9\, 2026\n\nJoin us for one of North Georgia’s most meaningful car shows — where incredible vehicles and a generous community come together to help local children have a brighter Christmas.\n\n$25 per vehicle registration – staging cars between 7:00 AM and Noon\n\nEvery vehicle entry gets a raffle ticket to win $2\,500 \nThere will be a 50/50 raffle also. \nspectators are free entry with free parking \nSince 2010\, the Secret Santa Car Show has brought together car enthusiasts\, families\, and local businesses for a day filled with amazing vehicles\, great food\, and community spirit. Every dollar raised helps provide Christmas gifts\, coats\, clothing\,and essential items for children in need in the Oakwood area. \n\nWhether you’re bringing a classic car\, a custom build\, a muscle car\, or simply coming to enjoy the show\, your participation helps make the holiday season brighter for local families. \nEvent Location\nUniversity of North Georgia – Oakwood/Gainesville Campus\n3820 Mundy Mill Road\nOakwood\, Georgia 30566 \nWhat to Expect\n• Hundreds of classic\, antiques and custom vehicles\n• Top 20 Awards and a large number of Specialty Awards\n• Fresh hot dogs and hamburgers grilled on site\n• Silent auction and raffle prizes\n• Family-friendly atmosphere\n• Free spectator admission and parking \n​Vehicle owners from across Georgia bring their best vehicles to compete\, share their passion\, and support a great cause. Spectators are invited to walk through rows of incredible cars while enjoying a day of fun and community fellowship. \nBe Part of Something Special \nRegister as a vendor\, become a sponsor\, or simply come enjoy the show. Together we can continue a tradition that helps bring Christmas joy to children who need it most. \nPlease email secretsantacarshow@gmail.com or call 770-519-8300 with questions. \nWe look forward to seeing you at the Secret Santa Car Show on October 10\, 2026!
URL:https://laniercorvettesunlimited.com/event/secret-santa-car-show-oakwood-ga/
END:VEVENT
BEGIN:VEVENT
DTSTART;TZID=America/New_York:20261016T070000
DTEND;TZID=America/New_York:20261018T150000
DTSTAMP:20260419T091123
CREATED:20251023T111744Z
LAST-MODIFIED:20260326T134702Z
UID:4168-1792134000-1792335600@laniercorvettesunlimited.com
SUMMARY:Queen City Corvette show - 2 nights - Charlotte NC
DESCRIPTION:LCU has participated at this event for many years. Stay tuned for details to book hotel at reduced rate and registration for the show and to book tours of Rick Hendrick’s Corvette museum or his NASCAR race engine factory.\n\nRegister show – tours – hotel\n\n \nSuggest if going to go ahead and register now and lock in tour tickets.  Also grab a hotel room before the 50 reduced rate rooms ($337 – 2nights total) are gone\, you can cancel up until just before the show.  You will be billed on day of arrival.\n\nRemember to RSVP below on our calendar so i can set restaurant reservations.\n\n\nIn the last two years we have brought home 3 awards (there are 24 awards for generations – 3 per generation (1 for Modified Corvette (Roger McQueen the King Here) and 2 per generation for stock.  I have a judging sheet so you can understand the judging in the Stock Category) \n\nMeetup points \n\nBojangles in Jefferson – exit 137 off I-85 onto Hwy 129. One block south of exit. 4836 Hwy 129 N. Jefferson GA 30549. Depart at 7:30 AM\n\n2nd Meetup location – South Carolina welcome center on I-85 as you leave GA into SC. Arrive between 8:00 – 8:20 AM as departure is at 8:20.\n\n3rd Meetup location – North Carolina welcome center on I-85 near Kings Mountain. Arrive between 10:00 – 10:30 AM as departure is at 10:30.\n\nIf joining to meetup with us for lunch it’s Outback at Concord Mills Boulevard\, Concord NC. Arrive by 11:30 AM.\n\nSo next September-October 2026\n\nFred Fletcher would like you to inform him your plans for your meetup point so we don’t wast time waiting for you at any of the points.
URL:https://laniercorvettesunlimited.com/event/queen-city-corvette-show-2-nights-charlotte-nc/
END:VEVENT
BEGIN:VEVENT
DTSTART;TZID=America/New_York:20261024T080000
DTEND;TZID=America/New_York:20261024T143000
DTSTAMP:20260419T091123
CREATED:20260226T225025Z
LAST-MODIFIED:20260226T231530Z
UID:4686-1792828800-1792852200@laniercorvettesunlimited.com
SUMMARY:Pixel Man Air & Car Show - Gainesville GA
DESCRIPTION:ABOUT THE AIRSHOW\n\n\nThe Pixel Man presents the city’s first-ever airshow at Gainesville Airport (KGVL).\n\n\n\n\nGainesville’s first-ever airshow\, hosted by The Pixel Man on October 24\, 2026 at Gainesville Airport (KGVL).\nA once-in-a-lifetime event featuring vintage aircraft\, thrilling aerial displays\, and massive crowds.\nPowered by Top Gun sponsors including Lanier Flight Center\, Horizon Dreams\, and AbAviation.\nFamily-friendly fun with food trucks\, live music\, face painting\, prizes\, and swag bags for participating pilots.\n\n\nhttps://www.tpmairshow.com/ \nRegistration link \nhttps://www.tpmairshow.com/blank-5
URL:https://laniercorvettesunlimited.com/event/pixel-man-air-car-show/
END:VEVENT
END:VCALENDAR